BEGIN:VCALENDAR
VERSION:2.0
PRODID:-//Dance Scottish Wellington - ECPv6.15.20//NONSGML v1.0//EN
CALSCALE:GREGORIAN
METHOD:PUBLISH
X-WR-CALNAME:Dance Scottish Wellington
X-ORIGINAL-URL:https://wellingtonscd.org.nz
X-WR-CALDESC:Events for Dance Scottish Wellington
REFRESH-INTERVAL;VALUE=DURATION:PT1H
X-Robots-Tag:noindex
X-PUBLISHED-TTL:PT1H
BEGIN:VTIMEZONE
TZID:Pacific/Auckland
BEGIN:STANDARD
TZOFFSETFROM:+1300
TZOFFSETTO:+1200
TZNAME:NZST
DTSTART:20240406T140000
END:STANDARD
BEGIN:DAYLIGHT
TZOFFSETFROM:+1200
TZOFFSETTO:+1300
TZNAME:NZDT
DTSTART:20240928T140000
END:DAYLIGHT
BEGIN:STANDARD
TZOFFSETFROM:+1300
TZOFFSETTO:+1200
TZNAME:NZST
DTSTART:20250405T140000
END:STANDARD
BEGIN:DAYLIGHT
TZOFFSETFROM:+1200
TZOFFSETTO:+1300
TZNAME:NZDT
DTSTART:20250927T140000
END:DAYLIGHT
BEGIN:STANDARD
TZOFFSETFROM:+1300
TZOFFSETTO:+1200
TZNAME:NZST
DTSTART:20260404T140000
END:STANDARD
BEGIN:DAYLIGHT
TZOFFSETFROM:+1200
TZOFFSETTO:+1300
TZNAME:NZDT
DTSTART:20260926T140000
END:DAYLIGHT
BEGIN:STANDARD
TZOFFSETFROM:+1300
TZOFFSETTO:+1200
TZNAME:NZST
DTSTART:20270403T140000
END:STANDARD
BEGIN:DAYLIGHT
TZOFFSETFROM:+1200
TZOFFSETTO:+1300
TZNAME:NZDT
DTSTART:20270925T140000
END:DAYLIGHT
END:VTIMEZONE
BEGIN:VEVENT
DTSTART;TZID=Pacific/Auckland:20251231T200000
DTEND;TZID=Pacific/Auckland:20260101T013000
DTSTAMP:20260424T234412
CREATED:20250406T050134Z
LAST-MODIFIED:20251205T233532Z
UID:8432-1767211200-1767231000@wellingtonscd.org.nz
SUMMARY:Wellington Region Hogmanay 2025
DESCRIPTION:Hogmanay Programme 2025 \n  \n\n\n	Related
URL:https://wellingtonscd.org.nz/event/wellington-region-hogmanay-2025/
LOCATION:Crofton Downs Primary School Hall\, 21 Chartwell Drive\, Crofton Downs\, Wellington\, 6035\, New Zealand
END:VEVENT
END:VCALENDAR