BEGIN:VCALENDAR
VERSION:2.0
PRODID:-//Dance Scottish Wellington - ECPv4.9.1.1//NONSGML v1.0//EN
CALSCALE:GREGORIAN
METHOD:PUBLISH
X-WR-CALNAME:Dance Scottish Wellington
X-ORIGINAL-URL:http://www.wellingtonscd.org.nz
X-WR-CALDESC:Events for Dance Scottish Wellington
BEGIN:VEVENT
DTSTART;TZID=Pacific/Auckland:20191231T200000
DTEND;TZID=Pacific/Auckland:20200101T010000
DTSTAMP:20191221T094431
CREATED:20191023T082043Z
LAST-MODIFIED:20191026T005832Z
UID:923-1577822400-1577840400@www.wellingtonscd.org.nz
SUMMARY:Wellington Region Hogmanay
DESCRIPTION:Hogmanay_programme_2019 \n
URL:http://www.wellingtonscd.org.nz/index.php/event/wellington-region-hogmanay/
LOCATION:Crofton Downs Primary School Hall\, Chartwell Drive\, Crofton Downs\, Wellington\, New Zealand
END:VEVENT
BEGIN:VEVENT
DTSTART;TZID=Pacific/Auckland:20200121T193000
DTEND;TZID=Pacific/Auckland:20200121T210000
DTSTAMP:20191221T094431
CREATED:20191026T010235Z
LAST-MODIFIED:20191026T011635Z
UID:929-1579635000-1579640400@www.wellingtonscd.org.nz
SUMMARY:Summer Dancing
DESCRIPTION:Summer Dancing Poster 2020 \n
URL:http://www.wellingtonscd.org.nz/index.php/event/summer-dancing/
LOCATION:Old Government Building\, 55 Lambton Quay\, Wellington\, New Zealand
END:VEVENT
BEGIN:VEVENT
DTSTART;TZID=Pacific/Auckland:20200128T193000
DTEND;TZID=Pacific/Auckland:20200128T210000
DTSTAMP:20191221T094431
CREATED:20191026T011156Z
LAST-MODIFIED:20191026T012410Z
UID:932-1580239800-1580245200@www.wellingtonscd.org.nz
SUMMARY:Summer Dancing
DESCRIPTION:Summer Dancing Poster 2020 \n
URL:http://www.wellingtonscd.org.nz/index.php/event/summer-dancing-2/
LOCATION:Old Government Building\, 55 Lambton Quay\, Wellington\, New Zealand
END:VEVENT
BEGIN:VEVENT
DTSTART;TZID=Pacific/Auckland:20200204T193000
DTEND;TZID=Pacific/Auckland:20200204T210000
DTSTAMP:20191221T094431
CREATED:20191026T011429Z
LAST-MODIFIED:20191026T011429Z
UID:934-1580844600-1580850000@www.wellingtonscd.org.nz
SUMMARY:Summer Dancing
DESCRIPTION:Summer Dancing Poster 2020 \n
URL:http://www.wellingtonscd.org.nz/index.php/event/summer-dancing-3/
LOCATION:Old Government Building\, 55 Lambton Quay\, Wellington\, New Zealand
END:VEVENT
BEGIN:VEVENT
DTSTART;TZID=Pacific/Auckland:20200211T193000
DTEND;TZID=Pacific/Auckland:20200211T210000
DTSTAMP:20191221T094431
CREATED:20191026T012238Z
LAST-MODIFIED:20191026T012238Z
UID:938-1581449400-1581454800@www.wellingtonscd.org.nz
SUMMARY:Summer Dancing
DESCRIPTION:Summer Dancing Poster 2020 \n
URL:http://www.wellingtonscd.org.nz/index.php/event/summer-dancing-4/
LOCATION:Old Government Building\, 55 Lambton Quay\, Wellington\, New Zealand
END:VEVENT
END:VCALENDAR